BEGIN:VCALENDAR
VERSION:2.0
PRODID:-//Creative Corp Inland SoCal - ECPv6.9.0//NONSGML v1.0//EN
CALSCALE:GREGORIAN
METHOD:PUBLISH
X-ORIGINAL-URL:https://creativeinlandsocal.com
X-WR-CALDESC:Events for Creative Corp Inland SoCal
REFRESH-INTERVAL;VALUE=DURATION:PT1H
X-Robots-Tag:noindex
X-PUBLISHED-TTL:PT1H
BEGIN:VTIMEZONE
TZID:America/Los_Angeles
BEGIN:DAYLIGHT
TZOFFSETFROM:-0800
TZOFFSETTO:-0700
TZNAME:PDT
DTSTART:20230312T100000
END:DAYLIGHT
BEGIN:STANDARD
TZOFFSETFROM:-0700
TZOFFSETTO:-0800
TZNAME:PST
DTSTART:20231105T090000
END:STANDARD
END:VTIMEZONE
BEGIN:VEVENT
DTSTART;TZID=America/Los_Angeles:20230406T120000
DTEND;TZID=America/Los_Angeles:20230406T133000
DTSTAMP:20260422T085358
CREATED:20230327T185559Z
LAST-MODIFIED:20230327T185559Z
UID:380-1680782400-1680787800@creativeinlandsocal.com
SUMMARY:Virtual Networking
DESCRIPTION:Join Creative Corps Inland SoCal for one of our networking events for artists and orgs interested in working together to meet and discuss collaboration opportunities and project ideas for the grant program. \nPlease note we have a number of in-person events and virtual events scheduled. You can RSVP for as many as you’d like. Once we received your responses\, you’ll receive a follow-up confirmation email with event details and zoom information if that applies. \nRSVP here.
URL:https://creativeinlandsocal.com/event/virtual-networking-3/
LOCATION:Virtual
CATEGORIES:Info Sessions
ATTACH;FMTTYPE=image/jpeg:https://creativeinlandsocal.com/wp-content/uploads/2023/01/ccis-iconpeople2-full-color-rgb-6in-w-144ppi.jpg
ORGANIZER;CN="Creative Corps Inland SoCal":MAILTO:CreativeInlandSoCal@gmail.com
END:VEVENT
END:VCALENDAR