BEGIN:VCALENDAR
VERSION:2.0
PRODID:-//Creative Corp Inland SoCal - ECPv6.9.0//NONSGML v1.0//EN
CALSCALE:GREGORIAN
METHOD:PUBLISH
X-ORIGINAL-URL:https://creativeinlandsocal.com
X-WR-CALDESC:Events for Creative Corp Inland SoCal
REFRESH-INTERVAL;VALUE=DURATION:PT1H
X-Robots-Tag:noindex
X-PUBLISHED-TTL:PT1H
BEGIN:VTIMEZONE
TZID:America/Los_Angeles
BEGIN:DAYLIGHT
TZOFFSETFROM:-0800
TZOFFSETTO:-0700
TZNAME:PDT
DTSTART:20230312T100000
END:DAYLIGHT
BEGIN:STANDARD
TZOFFSETFROM:-0700
TZOFFSETTO:-0800
TZNAME:PST
DTSTART:20231105T090000
END:STANDARD
END:VTIMEZONE
BEGIN:VEVENT
DTSTART;TZID=America/Los_Angeles:20230426T180000
DTEND;TZID=America/Los_Angeles:20230426T190000
DTSTAMP:20260422T085448
CREATED:20230421T182325Z
LAST-MODIFIED:20230421T182325Z
UID:427-1682532000-1682535600@creativeinlandsocal.com
SUMMARY:Additional Information Session (Spanish Audience)
DESCRIPTION:Learn about our RFP for artists and organizations. $3.8 million in grants available. Get answers to your last-minute questions and connect with us! \nWe welcome all forms of arts and culture! \nZoom link:  \nhttps://us06web.zoom.us/meeting/register/tZMrdemoqD8iGdLq2HsnT0ox5_bS8j8GROtp#/registration
URL:https://creativeinlandsocal.com/event/additional-information-session-spanish-audience/
LOCATION:Zoom
CATEGORIES:Info Sessions
ATTACH;FMTTYPE=image/jpeg:https://creativeinlandsocal.com/wp-content/uploads/2023/01/ccis-iconpeople1-full-color-rgb-6in-w-144ppi.jpg
ORGANIZER;CN="Creative Corps Inland SoCal":MAILTO:CreativeInlandSoCal@gmail.com
END:VEVENT
END:VCALENDAR