BEGIN:VCALENDAR
VERSION:2.0
PRODID:-//Creative Corp Inland SoCal - ECPv6.9.0//NONSGML v1.0//EN
CALSCALE:GREGORIAN
METHOD:PUBLISH
X-ORIGINAL-URL:https://creativeinlandsocal.com
X-WR-CALDESC:Events for Creative Corp Inland SoCal
REFRESH-INTERVAL;VALUE=DURATION:PT1H
X-Robots-Tag:noindex
X-PUBLISHED-TTL:PT1H
BEGIN:VTIMEZONE
TZID:America/Los_Angeles
BEGIN:DAYLIGHT
TZOFFSETFROM:-0800
TZOFFSETTO:-0700
TZNAME:PDT
DTSTART:20230312T100000
END:DAYLIGHT
BEGIN:STANDARD
TZOFFSETFROM:-0700
TZOFFSETTO:-0800
TZNAME:PST
DTSTART:20231105T090000
END:STANDARD
END:VTIMEZONE
BEGIN:VEVENT
DTSTART;TZID=America/Los_Angeles:20230406T170000
DTEND;TZID=America/Los_Angeles:20230406T183000
DTSTAMP:20260423T060623
CREATED:20230327T190424Z
LAST-MODIFIED:20230327T191041Z
UID:386-1680800400-1680805800@creativeinlandsocal.com
SUMMARY:Budgeting for Larger Projects
DESCRIPTION:Join us for practical ways to think through expenditures for a year long project. What are appropriate levels of compensation for various work you are thinking of proposing? What else should you consider when planning out your proposal? \nGrant-writing expert Andrea Mitchell will be teaching this technical assistance workshop. \nThis workshop is online and will be recorded. Link to register for the workshop is here.  \nASL and Spanish language translation will be provided.
URL:https://creativeinlandsocal.com/event/budgeting-for-larger-projects/
LOCATION:Virtual
CATEGORIES:Zoom Sessions
ATTACH;FMTTYPE=image/jpeg:https://creativeinlandsocal.com/wp-content/uploads/2023/01/ccis-iconpeople2-full-color-rgb-6in-w-144ppi.jpg
ORGANIZER;CN="Creative Corps Inland SoCal":MAILTO:CreativeInlandSoCal@gmail.com
END:VEVENT
END:VCALENDAR